BEGIN:VCALENDAR
VERSION:2.0
PRODID:-//ПОЗНАЙ ИСТИННУЮ ПРИРОДУ СВОЕЙ ДУШИ - ECPv6.15.13//NONSGML v1.0//EN
CALSCALE:GREGORIAN
METHOD:PUBLISH
X-ORIGINAL-URL:https://vidvas.ru
X-WR-CALDESC:Мероприятия для ПОЗНАЙ ИСТИННУЮ ПРИРОДУ СВОЕЙ ДУШИ
REFRESH-INTERVAL;VALUE=DURATION:PT1H
X-Robots-Tag:noindex
X-PUBLISHED-TTL:PT1H
BEGIN:VTIMEZONE
TZID:Europe/Moscow
BEGIN:STANDARD
TZOFFSETFROM:+0300
TZOFFSETTO:+0300
TZNAME:MSK
DTSTART:20250101T000000
END:STANDARD
END:VTIMEZONE
BEGIN:VEVENT
DTSTART;TZID=Europe/Moscow:20260314T220000
DTEND;TZID=Europe/Moscow:20260314T223000
DTSTAMP:20260425T181530
CREATED:20251223T141708Z
LAST-MODIFIED:20251223T141708Z
UID:8524-1773525600-1773527400@vidvas.ru
SUMMARY:Солнце в Рыбах
DESCRIPTION:
URL:https://vidvas.ru/event/solnce-v-rybakh-2/
CATEGORIES:Календарь
END:VEVENT
BEGIN:VEVENT
DTSTART;TZID=Europe/Moscow:20260414T063000
DTEND;TZID=Europe/Moscow:20260414T070000
DTSTAMP:20260425T181530
CREATED:20251223T141755Z
LAST-MODIFIED:20251223T141755Z
UID:8526-1776148200-1776150000@vidvas.ru
SUMMARY:Солнце в Овне
DESCRIPTION:
URL:https://vidvas.ru/event/solnce-v-ovne-2/
CATEGORIES:Календарь
END:VEVENT
BEGIN:VEVENT
DTSTART;TZID=Europe/Moscow:20260515T030000
DTEND;TZID=Europe/Moscow:20260515T033000
DTSTAMP:20260425T181530
CREATED:20251223T141850Z
LAST-MODIFIED:20251223T141850Z
UID:8528-1778814000-1778815800@vidvas.ru
SUMMARY:Солнце в Тельце
DESCRIPTION:
URL:https://vidvas.ru/event/solnce-v-telce-2/
CATEGORIES:Календарь
END:VEVENT
BEGIN:VEVENT
DTSTART;TZID=Europe/Moscow:20260615T093000
DTEND;TZID=Europe/Moscow:20260615T100000
DTSTAMP:20260425T181530
CREATED:20251223T141931Z
LAST-MODIFIED:20251223T141931Z
UID:8530-1781515800-1781517600@vidvas.ru
SUMMARY:Солнце в Близнецах
DESCRIPTION:
URL:https://vidvas.ru/event/solnce-v-bliznecakh-2/
CATEGORIES:Календарь
END:VEVENT
BEGIN:VEVENT
DTSTART;TZID=Europe/Moscow:20260716T203000
DTEND;TZID=Europe/Moscow:20260716T210000
DTSTAMP:20260425T181530
CREATED:20251223T142026Z
LAST-MODIFIED:20251223T142026Z
UID:8532-1784233800-1784235600@vidvas.ru
SUMMARY:Солнце в Раке
DESCRIPTION:
URL:https://vidvas.ru/event/solnce-v-rake-2/
CATEGORIES:Календарь
END:VEVENT
BEGIN:VEVENT
DTSTART;TZID=Europe/Moscow:20260817T043000
DTEND;TZID=Europe/Moscow:20260817T050000
DTSTAMP:20260425T181530
CREATED:20251223T163854Z
LAST-MODIFIED:20251223T163854Z
UID:8534-1786941000-1786942800@vidvas.ru
SUMMARY:Солнце во Льве
DESCRIPTION:
URL:https://vidvas.ru/event/solnce-vo-lve-3/
CATEGORIES:Календарь
END:VEVENT
BEGIN:VEVENT
DTSTART;TZID=Europe/Moscow:20260917T043000
DTEND;TZID=Europe/Moscow:20260917T050000
DTSTAMP:20260425T181530
CREATED:20251223T163938Z
LAST-MODIFIED:20251223T163938Z
UID:8536-1789619400-1789621200@vidvas.ru
SUMMARY:Солнце в Деве
DESCRIPTION:
URL:https://vidvas.ru/event/solnce-v-deve-3/
CATEGORIES:Календарь
END:VEVENT
BEGIN:VEVENT
DTSTART;TZID=Europe/Moscow:20261017T163000
DTEND;TZID=Europe/Moscow:20261017T170000
DTSTAMP:20260425T181530
CREATED:20251223T164020Z
LAST-MODIFIED:20251223T164020Z
UID:8538-1792254600-1792256400@vidvas.ru
SUMMARY:Солнце в Весах
DESCRIPTION:
URL:https://vidvas.ru/event/solnce-v-vesakh-3/
CATEGORIES:Календарь
END:VEVENT
BEGIN:VEVENT
DTSTART;TZID=Europe/Moscow:20261116T163000
DTEND;TZID=Europe/Moscow:20261116T170000
DTSTAMP:20260425T181530
CREATED:20251223T164110Z
LAST-MODIFIED:20251223T164110Z
UID:8540-1794846600-1794848400@vidvas.ru
SUMMARY:Солнце в Скорпионе
DESCRIPTION:
URL:https://vidvas.ru/event/solnce-v-skorpione-3/
CATEGORIES:Календарь
END:VEVENT
BEGIN:VEVENT
DTSTART;TZID=Europe/Moscow:20261217T070000
DTEND;TZID=Europe/Moscow:20261217T073000
DTSTAMP:20260425T181530
CREATED:20251223T164200Z
LAST-MODIFIED:20251223T164200Z
UID:8542-1797490800-1797492600@vidvas.ru
SUMMARY:Солнце в Стрельце
DESCRIPTION:
URL:https://vidvas.ru/event/solnce-v-strelce-3/
CATEGORIES:Календарь
END:VEVENT
BEGIN:VEVENT
DTSTART;TZID=Europe/Moscow:20270114T180000
DTEND;TZID=Europe/Moscow:20270114T183000
DTSTAMP:20260425T181530
CREATED:20251223T164253Z
LAST-MODIFIED:20251223T164253Z
UID:8544-1799949600-1799951400@vidvas.ru
SUMMARY:Солнце в Козероге
DESCRIPTION:
URL:https://vidvas.ru/event/solnce-v-kozeroge-3/
CATEGORIES:Календарь
END:VEVENT
END:VCALENDAR