BEGIN:VCALENDAR
VERSION:2.0
PRODID:-//ПОЗНАЙ ИСТИННУЮ ПРИРОДУ СВОЕЙ ДУШИ - ECPv6.15.13//NONSGML v1.0//EN
CALSCALE:GREGORIAN
METHOD:PUBLISH
X-WR-CALNAME:ПОЗНАЙ ИСТИННУЮ ПРИРОДУ СВОЕЙ ДУШИ
X-ORIGINAL-URL:https://vidvas.ru
X-WR-CALDESC:Мероприятия для ПОЗНАЙ ИСТИННУЮ ПРИРОДУ СВОЕЙ ДУШИ
REFRESH-INTERVAL;VALUE=DURATION:PT1H
X-Robots-Tag:noindex
X-PUBLISHED-TTL:PT1H
BEGIN:VTIMEZONE
TZID:Europe/Moscow
BEGIN:STANDARD
TZOFFSETFROM:+0300
TZOFFSETTO:+0300
TZNAME:MSK
DTSTART:20240101T000000
END:STANDARD
END:VTIMEZONE
BEGIN:VEVENT
DTSTART;TZID=Europe/Moscow:20250728T163000
DTEND;TZID=Europe/Moscow:20250728T170000
DTSTAMP:20260425T191650
CREATED:20241223T111344Z
LAST-MODIFIED:20241223T111344Z
UID:6296-1753720200-1753722000@vidvas.ru
SUMMARY:Марс в Деве
DESCRIPTION:16:34 по мск
URL:https://vidvas.ru/event/mars-v-deve/
CATEGORIES:Календарь
END:VEVENT
BEGIN:VEVENT
DTSTART;TZID=Europe/Moscow:20250811T100000
DTEND;TZID=Europe/Moscow:20250811T103000
DTSTAMP:20260425T191650
CREATED:20241223T121803Z
LAST-MODIFIED:20241223T121803Z
UID:6374-1754906400-1754908200@vidvas.ru
SUMMARY:Директный (прямой) Меркурий
DESCRIPTION:10:23 по мск
URL:https://vidvas.ru/event/direktnyy-pryamoy-merkuriy-2/
CATEGORIES:Календарь
END:VEVENT
BEGIN:VEVENT
DTSTART;TZID=Europe/Moscow:20250816T223000
DTEND;TZID=Europe/Moscow:20250816T230000
DTSTAMP:20260425T191650
CREATED:20241223T110253Z
LAST-MODIFIED:20241223T110253Z
UID:6280-1755383400-1755385200@vidvas.ru
SUMMARY:Солнце во Льве
DESCRIPTION:22:50 по мск
URL:https://vidvas.ru/event/solnce-vo-lve-2/
CATEGORIES:Календарь
END:VEVENT
BEGIN:VEVENT
DTSTART;TZID=Europe/Moscow:20250820T220000
DTEND;TZID=Europe/Moscow:20250820T223000
DTSTAMP:20260425T191650
CREATED:20241223T120029Z
LAST-MODIFIED:20241223T120029Z
UID:6348-1755727200-1755729000@vidvas.ru
SUMMARY:Венера в Раке
DESCRIPTION:22:19 по мск
URL:https://vidvas.ru/event/venera-v-rake/
CATEGORIES:Календарь
END:VEVENT
BEGIN:VEVENT
DTSTART;TZID=Europe/Moscow:20250830T133000
DTEND;TZID=Europe/Moscow:20250830T140000
DTSTAMP:20260425T191650
CREATED:20241223T114331Z
LAST-MODIFIED:20241223T114331Z
UID:6320-1756560600-1756562400@vidvas.ru
SUMMARY:Меркурий во Льве
DESCRIPTION:13:52 по мск
URL:https://vidvas.ru/event/merkuriy-vo-lve/
CATEGORIES:Календарь
END:VEVENT
BEGIN:VEVENT
DTSTART;TZID=Europe/Moscow:20250907T183000
DTEND;TZID=Europe/Moscow:20250907T183000
DTSTAMP:20260425T191650
CREATED:20241223T125329Z
LAST-MODIFIED:20241223T125329Z
UID:6409-1757269800-1757269800@vidvas.ru
SUMMARY:Лунное затмение
DESCRIPTION:Начинается в 18:26\nПик в 21:11\nЗаканчивается в 23:54
URL:https://vidvas.ru/event/lunnoe-zatmenie-2/
CATEGORIES:Календарь
END:VEVENT
BEGIN:VEVENT
DTSTART;TZID=Europe/Moscow:20250913T173000
DTEND;TZID=Europe/Moscow:20250913T180000
DTSTAMP:20260425T191650
CREATED:20241223T111514Z
LAST-MODIFIED:20241223T111514Z
UID:6298-1757784600-1757786400@vidvas.ru
SUMMARY:Марс в Весах
DESCRIPTION:17:58 по мск
URL:https://vidvas.ru/event/mars-v-vesakh/
CATEGORIES:Календарь
END:VEVENT
BEGIN:VEVENT
DTSTART;TZID=Europe/Moscow:20250914T210000
DTEND;TZID=Europe/Moscow:20250914T213000
DTSTAMP:20260425T191650
CREATED:20241223T120125Z
LAST-MODIFIED:20241223T120125Z
UID:6350-1757883600-1757885400@vidvas.ru
SUMMARY:Венера во Льве
DESCRIPTION:21:16 по мск
URL:https://vidvas.ru/event/venera-vo-lve-2/
CATEGORIES:Календарь
END:VEVENT
BEGIN:VEVENT
DTSTART;TZID=Europe/Moscow:20250915T080000
DTEND;TZID=Europe/Moscow:20250915T083000
DTSTAMP:20260425T191650
CREATED:20241223T114428Z
LAST-MODIFIED:20241223T114428Z
UID:6322-1757923200-1757925000@vidvas.ru
SUMMARY:Меркурий в Деве
DESCRIPTION:08:12 по мск
URL:https://vidvas.ru/event/merkuriy-v-deve-2/
END:VEVENT
BEGIN:VEVENT
DTSTART;TZID=Europe/Moscow:20250916T223000
DTEND;TZID=Europe/Moscow:20250916T230000
DTSTAMP:20260425T191650
CREATED:20241223T110349Z
LAST-MODIFIED:20241223T110349Z
UID:6282-1758061800-1758063600@vidvas.ru
SUMMARY:Солнце в Деве
DESCRIPTION:22:45 по мск
URL:https://vidvas.ru/event/solnce-v-deve-2/
CATEGORIES:Календарь
END:VEVENT
BEGIN:VEVENT
DTSTART;TZID=Europe/Moscow:20250921T080000
DTEND;TZID=Europe/Moscow:20250921T170000
DTSTAMP:20260425T191650
CREATED:20241223T124734Z
LAST-MODIFIED:20241223T124734Z
UID:6405-1758441600-1758474000@vidvas.ru
SUMMARY:Солнечное затмение
DESCRIPTION:Начало в 20:29\nПик в 22:41\nЗаканчивается в 00:53 (22 сентября)
URL:https://vidvas.ru/event/solnechnoe-zatmenie-3/
CATEGORIES:Календарь
END:VEVENT
BEGIN:VEVENT
DTSTART;TZID=Europe/Moscow:20250930T023000
DTEND;TZID=Europe/Moscow:20251005T123000
DTSTAMP:20260425T191650
CREATED:20241223T123657Z
LAST-MODIFIED:20241223T124204Z
UID:6401-1759199400-1759667400@vidvas.ru
SUMMARY:Директные (прямые) Раху-Кету
DESCRIPTION:
URL:https://vidvas.ru/event/direktnye-pryamye-rakhu-ketu/
CATEGORIES:Календарь
END:VEVENT
BEGIN:VEVENT
DTSTART;TZID=Europe/Moscow:20251003T003000
DTEND;TZID=Europe/Moscow:20251003T010000
DTSTAMP:20260425T191650
CREATED:20241223T114547Z
LAST-MODIFIED:20241223T114547Z
UID:6324-1759451400-1759453200@vidvas.ru
SUMMARY:Меркурий в Весах
DESCRIPTION:00:47 по мск
URL:https://vidvas.ru/event/merkuriy-v-vesakh-2/
CATEGORIES:Календарь
END:VEVENT
BEGIN:VEVENT
DTSTART;TZID=Europe/Moscow:20251003T100000
DTEND;TZID=Europe/Moscow:20251003T103000
DTSTAMP:20260425T191650
CREATED:20241223T122706Z
LAST-MODIFIED:20241223T122706Z
UID:6388-1759485600-1759487400@vidvas.ru
SUMMARY:Ретроградная Венера
DESCRIPTION:10:11 по мск
URL:https://vidvas.ru/event/retrogradnaya-venera-2/
CATEGORIES:Календарь
END:VEVENT
BEGIN:VEVENT
DTSTART;TZID=Europe/Moscow:20251009T073000
DTEND;TZID=Europe/Moscow:20251009T080000
DTSTAMP:20260425T191650
CREATED:20241223T120220Z
LAST-MODIFIED:20241223T120220Z
UID:6352-1759995000-1759996800@vidvas.ru
SUMMARY:Венера в Деве
DESCRIPTION:07:47 по мск
URL:https://vidvas.ru/event/venera-v-deve-2/
CATEGORIES:Календарь
END:VEVENT
BEGIN:VEVENT
DTSTART;TZID=Europe/Moscow:20251017T103000
DTEND;TZID=Europe/Moscow:20251017T110000
DTSTAMP:20260425T191650
CREATED:20241223T110453Z
LAST-MODIFIED:20241223T110453Z
UID:6284-1760697000-1760698800@vidvas.ru
SUMMARY:Солнце в Весах
DESCRIPTION:10:44 по мск
URL:https://vidvas.ru/event/solnce-v-vesakh-2/
CATEGORIES:Календарь
END:VEVENT
BEGIN:VEVENT
DTSTART;TZID=Europe/Moscow:20251018T113000
DTEND;TZID=Europe/Moscow:20251018T120000
DTSTAMP:20260425T191650
CREATED:20241223T115330Z
LAST-MODIFIED:20241223T115330Z
UID:6338-1760787000-1760788800@vidvas.ru
SUMMARY:Юпитер в Раке
DESCRIPTION:11:33 по мск
URL:https://vidvas.ru/event/yupiter-v-rake/
CATEGORIES:Календарь
END:VEVENT
BEGIN:VEVENT
DTSTART;TZID=Europe/Moscow:20251024T093000
DTEND;TZID=Europe/Moscow:20251024T100000
DTSTAMP:20260425T191650
CREATED:20241223T114653Z
LAST-MODIFIED:20241223T114653Z
UID:6326-1761298200-1761300000@vidvas.ru
SUMMARY:Меркурий в Скорпионе
DESCRIPTION:09:34 по мск
URL:https://vidvas.ru/event/merkuriy-v-skorpione-2/
CATEGORIES:Календарь
END:VEVENT
BEGIN:VEVENT
DTSTART;TZID=Europe/Moscow:20251027T120000
DTEND;TZID=Europe/Moscow:20251027T123000
DTSTAMP:20260425T191650
CREATED:20241223T111611Z
LAST-MODIFIED:20241223T111611Z
UID:6300-1761566400-1761568200@vidvas.ru
SUMMARY:Марс в Скорпионе
DESCRIPTION:12:20 по мск
URL:https://vidvas.ru/event/mars-v-skorpione/
CATEGORIES:Календарь
END:VEVENT
BEGIN:VEVENT
DTSTART;TZID=Europe/Moscow:20251102T100000
DTEND;TZID=Europe/Moscow:20251102T103000
DTSTAMP:20260425T191650
CREATED:20241223T120311Z
LAST-MODIFIED:20241223T120312Z
UID:6354-1762077600-1762079400@vidvas.ru
SUMMARY:Венера в Весах
DESCRIPTION:10:13 по мск
URL:https://vidvas.ru/event/venera-v-vesakh-2/
CATEGORIES:Календарь
END:VEVENT
BEGIN:VEVENT
DTSTART;TZID=Europe/Moscow:20251109T213000
DTEND;TZID=Europe/Moscow:20251109T220000
DTSTAMP:20260425T191650
CREATED:20241223T121906Z
LAST-MODIFIED:20241223T121906Z
UID:6376-1762723800-1762725600@vidvas.ru
SUMMARY:Ретроградный Меркурий
DESCRIPTION:21:54 по мск
URL:https://vidvas.ru/event/retrogradnyy-merkuriy-5/
CATEGORIES:Календарь
END:VEVENT
BEGIN:VEVENT
DTSTART;TZID=Europe/Moscow:20251111T183000
DTEND;TZID=Europe/Moscow:20251111T190000
DTSTAMP:20260425T191650
CREATED:20241223T122349Z
LAST-MODIFIED:20241223T122349Z
UID:6382-1762885800-1762887600@vidvas.ru
SUMMARY:Ретроградный Юпитер
DESCRIPTION:18:58 по мск
URL:https://vidvas.ru/event/retrogradnyy-yupiter-2/
CATEGORIES:Календарь
END:VEVENT
BEGIN:VEVENT
DTSTART;TZID=Europe/Moscow:20251114T030000
DTEND;TZID=Europe/Moscow:20251114T033000
DTSTAMP:20260425T191650
CREATED:20241223T122810Z
LAST-MODIFIED:20241223T122810Z
UID:6390-1763089200-1763091000@vidvas.ru
SUMMARY:Директная (прямая) Венера
DESCRIPTION:03:25 по мск
URL:https://vidvas.ru/event/direktnaya-pryamaya-venera-2/
CATEGORIES:Календарь
END:VEVENT
BEGIN:VEVENT
DTSTART;TZID=Europe/Moscow:20251116T103000
DTEND;TZID=Europe/Moscow:20251116T110000
DTSTAMP:20260425T191650
CREATED:20241223T110617Z
LAST-MODIFIED:20241223T110617Z
UID:6286-1763289000-1763290800@vidvas.ru
SUMMARY:Солнце в Скорпионе
DESCRIPTION:10:36 по мск
URL:https://vidvas.ru/event/solnce-v-skorpione-2/
CATEGORIES:Календарь
END:VEVENT
BEGIN:VEVENT
DTSTART;TZID=Europe/Moscow:20251123T173000
DTEND;TZID=Europe/Moscow:20251123T180000
DTSTAMP:20260425T191650
CREATED:20241223T114751Z
LAST-MODIFIED:20241223T114751Z
UID:6328-1763919000-1763920800@vidvas.ru
SUMMARY:Меркурий в Весах
DESCRIPTION:17:51 по мск
URL:https://vidvas.ru/event/merkuriy-v-vesakh-3/
CATEGORIES:Календарь
END:VEVENT
BEGIN:VEVENT
DTSTART;TZID=Europe/Moscow:20251126T080000
DTEND;TZID=Europe/Moscow:20251126T083000
DTSTAMP:20260425T191650
CREATED:20241223T120408Z
LAST-MODIFIED:20241223T120408Z
UID:6356-1764144000-1764145800@vidvas.ru
SUMMARY:Венера в Скорпионе
DESCRIPTION:08:19 по мск
URL:https://vidvas.ru/event/venera-v-skorpione-2/
CATEGORIES:Календарь
END:VEVENT
BEGIN:VEVENT
DTSTART;TZID=Europe/Moscow:20251128T050000
DTEND;TZID=Europe/Moscow:20251128T053000
DTSTAMP:20260425T191650
CREATED:20241223T123053Z
LAST-MODIFIED:20241223T123053Z
UID:6394-1764306000-1764307800@vidvas.ru
SUMMARY:Директный (прямой) Сатурн
DESCRIPTION:05:28 по мск
URL:https://vidvas.ru/event/direktnyy-pryamoy-saturn/
CATEGORIES:Календарь
END:VEVENT
BEGIN:VEVENT
DTSTART;TZID=Europe/Moscow:20251129T203000
DTEND;TZID=Europe/Moscow:20251129T210000
DTSTAMP:20260425T191650
CREATED:20241223T122011Z
LAST-MODIFIED:20241223T122011Z
UID:6378-1764448200-1764450000@vidvas.ru
SUMMARY:Директный (прямой) Меркурий
DESCRIPTION:20:31 по мск
URL:https://vidvas.ru/event/direktnyy-pryamoy-merkuriy-3/
CATEGORIES:Календарь
END:VEVENT
BEGIN:VEVENT
DTSTART;TZID=Europe/Moscow:20251205T190000
DTEND;TZID=Europe/Moscow:20251205T193000
DTSTAMP:20260425T191650
CREATED:20241223T115430Z
LAST-MODIFIED:20241223T115430Z
UID:6340-1764961200-1764963000@vidvas.ru
SUMMARY:Юпитер в Близнецах
DESCRIPTION:19:18 по мск
URL:https://vidvas.ru/event/yupiter-v-bliznecakh-2/
CATEGORIES:Календарь
END:VEVENT
BEGIN:VEVENT
DTSTART;TZID=Europe/Moscow:20251206T173000
DTEND;TZID=Europe/Moscow:20251206T180000
DTSTAMP:20260425T191650
CREATED:20241223T114847Z
LAST-MODIFIED:20241223T114847Z
UID:6330-1765042200-1765044000@vidvas.ru
SUMMARY:Меркурий в Скорпионе
DESCRIPTION:17:41 по мск
URL:https://vidvas.ru/event/merkuriy-v-skorpione-3/
CATEGORIES:Календарь
END:VEVENT
END:VCALENDAR