BEGIN:VCALENDAR
VERSION:2.0
PRODID:-//ПОЗНАЙ ИСТИННУЮ ПРИРОДУ СВОЕЙ ДУШИ - ECPv6.15.13//NONSGML v1.0//EN
CALSCALE:GREGORIAN
METHOD:PUBLISH
X-WR-CALNAME:ПОЗНАЙ ИСТИННУЮ ПРИРОДУ СВОЕЙ ДУШИ
X-ORIGINAL-URL:https://vidvas.ru
X-WR-CALDESC:Мероприятия для ПОЗНАЙ ИСТИННУЮ ПРИРОДУ СВОЕЙ ДУШИ
REFRESH-INTERVAL;VALUE=DURATION:PT1H
X-Robots-Tag:noindex
X-PUBLISHED-TTL:PT1H
BEGIN:VTIMEZONE
TZID:Europe/Moscow
BEGIN:STANDARD
TZOFFSETFROM:+0300
TZOFFSETTO:+0300
TZNAME:MSK
DTSTART:20230101T000000
END:STANDARD
END:VTIMEZONE
BEGIN:VEVENT
DTSTART;VALUE=DATE:20250121
DTEND;VALUE=DATE:20250122
DTSTAMP:20260425T144145
CREATED:20240924T060806Z
LAST-MODIFIED:20240924T060806Z
UID:6125-1737417600-1737503999@vidvas.ru
SUMMARY:Марс в Близнецах
DESCRIPTION:до 2 апреля 2025
URL:https://vidvas.ru/event/mars-v-bliznecakh-3/
CATEGORIES:Календарь
END:VEVENT
BEGIN:VEVENT
DTSTART;TZID=Europe/Moscow:20250114T053000
DTEND;TZID=Europe/Moscow:20250114T060000
DTSTAMP:20260425T144145
CREATED:20231220T064937Z
LAST-MODIFIED:20231220T064937Z
UID:5421-1736832600-1736834400@vidvas.ru
SUMMARY:Солнце в Козероге
DESCRIPTION:
URL:https://vidvas.ru/event/solnce-v-kozeroge-2/
CATEGORIES:Календарь
END:VEVENT
BEGIN:VEVENT
DTSTART;TZID=Europe/Moscow:20250104T090000
DTEND;TZID=Europe/Moscow:20250104T093000
DTSTAMP:20260425T144145
CREATED:20231220T093858Z
LAST-MODIFIED:20231220T093858Z
UID:5471-1735981200-1735983000@vidvas.ru
SUMMARY:Меркурий в Стрельце
DESCRIPTION:
URL:https://vidvas.ru/event/merkuriy-v-strelce/
CATEGORIES:Календарь
END:VEVENT
BEGIN:VEVENT
DTSTART;TZID=Europe/Moscow:20241228T203000
DTEND;TZID=Europe/Moscow:20241228T210000
DTSTAMP:20260425T144145
CREATED:20231220T095407Z
LAST-MODIFIED:20231220T095407Z
UID:5503-1735417800-1735419600@vidvas.ru
SUMMARY:Венера в Водолее
DESCRIPTION:
URL:https://vidvas.ru/event/venera-v-vodolee-2/
CATEGORIES:Календарь
END:VEVENT
BEGIN:VEVENT
DTSTART;TZID=Europe/Moscow:20241215T190000
DTEND;TZID=Europe/Moscow:20241215T193000
DTSTAMP:20260425T144145
CREATED:20231220T064829Z
LAST-MODIFIED:20231220T064829Z
UID:5419-1734289200-1734291000@vidvas.ru
SUMMARY:Солнце в Стрельце
DESCRIPTION:
URL:https://vidvas.ru/event/solnce-v-strelce/
CATEGORIES:Календарь
END:VEVENT
BEGIN:VEVENT
DTSTART;TZID=Europe/Moscow:20241202T083000
DTEND;TZID=Europe/Moscow:20241202T090000
DTSTAMP:20260425T144145
CREATED:20231220T095304Z
LAST-MODIFIED:20231220T095304Z
UID:5501-1733128200-1733130000@vidvas.ru
SUMMARY:Венера в Козероге
DESCRIPTION:
URL:https://vidvas.ru/event/venera-v-kozeroge-2/
CATEGORIES:Календарь
END:VEVENT
BEGIN:VEVENT
DTSTART;TZID=Europe/Moscow:20241126T053000
DTEND;TZID=Europe/Moscow:20241215T233000
DTSTAMP:20260425T144145
CREATED:20231221T125238Z
LAST-MODIFIED:20231221T125238Z
UID:5513-1732599000-1734305400@vidvas.ru
SUMMARY:Ретроградный Меркурий
DESCRIPTION:
URL:https://vidvas.ru/event/retrogradnyy-merkuriy-3/
CATEGORIES:Календарь
END:VEVENT
BEGIN:VEVENT
DTSTART;TZID=Europe/Moscow:20241116T043000
DTEND;TZID=Europe/Moscow:20241116T050000
DTSTAMP:20260425T144145
CREATED:20231220T064724Z
LAST-MODIFIED:20231220T064724Z
UID:5417-1731731400-1731733200@vidvas.ru
SUMMARY:Солнце в Скорпионе
DESCRIPTION:
URL:https://vidvas.ru/event/solnce-v-skorpione/
CATEGORIES:Календарь
END:VEVENT
BEGIN:VEVENT
DTSTART;TZID=Europe/Moscow:20241107T003000
DTEND;TZID=Europe/Moscow:20241107T010000
DTSTAMP:20260425T144145
CREATED:20231220T095217Z
LAST-MODIFIED:20231220T095217Z
UID:5499-1730939400-1730941200@vidvas.ru
SUMMARY:Венера в Стрельце
DESCRIPTION:
URL:https://vidvas.ru/event/venera-v-strelce-2/
CATEGORIES:Календарь
END:VEVENT
BEGIN:VEVENT
DTSTART;TZID=Europe/Moscow:20241029T193000
DTEND;TZID=Europe/Moscow:20241029T200000
DTSTAMP:20260425T144145
CREATED:20231220T093809Z
LAST-MODIFIED:20231220T093809Z
UID:5469-1730230200-1730232000@vidvas.ru
SUMMARY:Меркурий в Скорпионе
DESCRIPTION:
URL:https://vidvas.ru/event/merkuriy-v-skorpione/
CATEGORIES:Календарь
END:VEVENT
BEGIN:VEVENT
DTSTART;TZID=Europe/Moscow:20241020T103000
DTEND;TZID=Europe/Moscow:20241020T110000
DTSTAMP:20260425T144145
CREATED:20231220T091047Z
LAST-MODIFIED:20240924T060633Z
UID:5437-1729420200-1729422000@vidvas.ru
SUMMARY:Марс в Раке
DESCRIPTION:До 25 января 2025
URL:https://vidvas.ru/event/mars-v-rybakh-2/
CATEGORIES:Календарь
END:VEVENT
BEGIN:VEVENT
DTSTART;TZID=Europe/Moscow:20241017T043000
DTEND;TZID=Europe/Moscow:20241017T050000
DTSTAMP:20260425T144145
CREATED:20231220T064624Z
LAST-MODIFIED:20231220T064624Z
UID:5415-1729139400-1729141200@vidvas.ru
SUMMARY:Солнце в Весах
DESCRIPTION:
URL:https://vidvas.ru/event/solnce-v-vesakh/
CATEGORIES:Календарь
END:VEVENT
BEGIN:VEVENT
DTSTART;TZID=Europe/Moscow:20241013T030000
DTEND;TZID=Europe/Moscow:20241013T033000
DTSTAMP:20260425T144145
CREATED:20231220T095131Z
LAST-MODIFIED:20231220T095131Z
UID:5497-1728788400-1728790200@vidvas.ru
SUMMARY:Венера в Скорпионе
DESCRIPTION:
URL:https://vidvas.ru/event/venera-v-skorpione/
CATEGORIES:Календарь
END:VEVENT
BEGIN:VEVENT
DTSTART;TZID=Europe/Moscow:20241010T080000
DTEND;TZID=Europe/Moscow:20241010T083000
DTSTAMP:20260425T144145
CREATED:20231220T093646Z
LAST-MODIFIED:20231220T093646Z
UID:5467-1728547200-1728549000@vidvas.ru
SUMMARY:Меркурий в Весах
DESCRIPTION:
URL:https://vidvas.ru/event/merkuriy-v-vesakh/
CATEGORIES:Календарь
END:VEVENT
BEGIN:VEVENT
DTSTART;TZID=Europe/Moscow:20241009T090000
DTEND;TZID=Europe/Moscow:20241009T120000
DTSTAMP:20260425T144145
CREATED:20231221T125702Z
LAST-MODIFIED:20241223T125827Z
UID:5515-1728464400-1728475200@vidvas.ru
SUMMARY:Ретроградный Юпитер
DESCRIPTION:
URL:https://vidvas.ru/event/retrogradnyy-yupiter/
CATEGORIES:Календарь
END:VEVENT
BEGIN:VEVENT
DTSTART;TZID=Europe/Moscow:20241002T183000
DTEND;TZID=Europe/Moscow:20241002T233000
DTSTAMP:20260425T144145
CREATED:20231221T130923Z
LAST-MODIFIED:20231221T130923Z
UID:5526-1727893800-1727911800@vidvas.ru
SUMMARY:Солнечное затмение
DESCRIPTION:Начало в 18:42\nПик 21:44\nЗаканчивается в 23:35
URL:https://vidvas.ru/event/solnechnoe-zatmenie/
CATEGORIES:Календарь
END:VEVENT
BEGIN:VEVENT
DTSTART;TZID=Europe/Moscow:20240923T080000
DTEND;TZID=Europe/Moscow:20240923T083000
DTSTAMP:20260425T144145
CREATED:20231220T093525Z
LAST-MODIFIED:20231220T093525Z
UID:5465-1727078400-1727080200@vidvas.ru
SUMMARY:Меркурий в Деве
DESCRIPTION:
URL:https://vidvas.ru/event/merkuriy-v-deve/
CATEGORIES:Календарь
END:VEVENT
BEGIN:VEVENT
DTSTART;TZID=Europe/Moscow:20240918T103000
DTEND;TZID=Europe/Moscow:20240918T110000
DTSTAMP:20260425T144145
CREATED:20231220T095034Z
LAST-MODIFIED:20231220T095034Z
UID:5495-1726655400-1726657200@vidvas.ru
SUMMARY:Венера в Весах
DESCRIPTION:
URL:https://vidvas.ru/event/venera-v-vesakh/
CATEGORIES:Календарь
END:VEVENT
BEGIN:VEVENT
DTSTART;TZID=Europe/Moscow:20240918T033000
DTEND;TZID=Europe/Moscow:20240918T080000
DTSTAMP:20260425T144145
CREATED:20231221T130749Z
LAST-MODIFIED:20231221T130749Z
UID:5523-1726630200-1726646400@vidvas.ru
SUMMARY:Лунное затмение в Рыбах
DESCRIPTION:начало в 03:40\nпик 05:44\nзаканчивается в 07:47
URL:https://vidvas.ru/event/lunnoe-zatmenie-v-rybakh/
CATEGORIES:Календарь
END:VEVENT
BEGIN:VEVENT
DTSTART;TZID=Europe/Moscow:20240916T163000
DTEND;TZID=Europe/Moscow:20240916T170000
DTSTAMP:20260425T144145
CREATED:20231220T064531Z
LAST-MODIFIED:20231220T064531Z
UID:5413-1726504200-1726506000@vidvas.ru
SUMMARY:Солнце в Деве
DESCRIPTION:
URL:https://vidvas.ru/event/solnce-v-deve/
CATEGORIES:Календарь
END:VEVENT
BEGIN:VEVENT
DTSTART;TZID=Europe/Moscow:20240904T083000
DTEND;TZID=Europe/Moscow:20240904T090000
DTSTAMP:20260425T144145
CREATED:20231220T093404Z
LAST-MODIFIED:20231220T093404Z
UID:5463-1725438600-1725440400@vidvas.ru
SUMMARY:Меркурий во Льве
DESCRIPTION:
URL:https://vidvas.ru/event/merkuriy-vo-lve-2/
CATEGORIES:Календарь
END:VEVENT
BEGIN:VEVENT
DTSTART;TZID=Europe/Moscow:20240826T120000
DTEND;TZID=Europe/Moscow:20240826T123000
DTSTAMP:20260425T144145
CREATED:20231220T090953Z
LAST-MODIFIED:20231220T090953Z
UID:5435-1724673600-1724675400@vidvas.ru
SUMMARY:Марс в Близнецах
DESCRIPTION:
URL:https://vidvas.ru/event/mars-v-bliznecakh/
CATEGORIES:Календарь
END:VEVENT
BEGIN:VEVENT
DTSTART;TZID=Europe/Moscow:20240824T220000
DTEND;TZID=Europe/Moscow:20240824T223000
DTSTAMP:20260425T144145
CREATED:20231220T094904Z
LAST-MODIFIED:20231220T094904Z
UID:5493-1724536800-1724538600@vidvas.ru
SUMMARY:Венера в Деве
DESCRIPTION:
URL:https://vidvas.ru/event/venera-v-deve/
CATEGORIES:Календарь
END:VEVENT
BEGIN:VEVENT
DTSTART;TZID=Europe/Moscow:20240822T043000
DTEND;TZID=Europe/Moscow:20240822T050000
DTSTAMP:20260425T144145
CREATED:20231220T093308Z
LAST-MODIFIED:20231220T093308Z
UID:5461-1724301000-1724302800@vidvas.ru
SUMMARY:Меркурий в Раке
DESCRIPTION:
URL:https://vidvas.ru/event/merkuriy-v-rake-2/
CATEGORIES:Календарь
END:VEVENT
BEGIN:VEVENT
DTSTART;TZID=Europe/Moscow:20240816T163000
DTEND;TZID=Europe/Moscow:20240816T170000
DTSTAMP:20260425T144145
CREATED:20231220T064440Z
LAST-MODIFIED:20231220T064440Z
UID:5411-1723825800-1723827600@vidvas.ru
SUMMARY:Солнце во Льве
DESCRIPTION:
URL:https://vidvas.ru/event/solnce-vo-lve/
CATEGORIES:Календарь
END:VEVENT
BEGIN:VEVENT
DTSTART;TZID=Europe/Moscow:20240805T073000
DTEND;TZID=Europe/Moscow:20240829T000000
DTSTAMP:20260425T144145
CREATED:20231221T125011Z
LAST-MODIFIED:20231221T125011Z
UID:5511-1722843000-1724889600@vidvas.ru
SUMMARY:Ретроградный Меркурий
DESCRIPTION:
URL:https://vidvas.ru/event/retrogradnyy-merkuriy-2/
CATEGORIES:Календарь
END:VEVENT
BEGIN:VEVENT
DTSTART;TZID=Europe/Moscow:20240731T113000
DTEND;TZID=Europe/Moscow:20240731T120000
DTSTAMP:20260425T144145
CREATED:20231220T094819Z
LAST-MODIFIED:20231220T094819Z
UID:5491-1722425400-1722427200@vidvas.ru
SUMMARY:Венера во Льве
DESCRIPTION:
URL:https://vidvas.ru/event/venera-vo-lve/
CATEGORIES:Календарь
END:VEVENT
END:VCALENDAR