BEGIN:VCALENDAR
VERSION:2.0
PRODID:-//ПОЗНАЙ ИСТИННУЮ ПРИРОДУ СВОЕЙ ДУШИ - ECPv6.15.13//NONSGML v1.0//EN
CALSCALE:GREGORIAN
METHOD:PUBLISH
X-WR-CALNAME:ПОЗНАЙ ИСТИННУЮ ПРИРОДУ СВОЕЙ ДУШИ
X-ORIGINAL-URL:https://vidvas.ru
X-WR-CALDESC:Мероприятия для ПОЗНАЙ ИСТИННУЮ ПРИРОДУ СВОЕЙ ДУШИ
REFRESH-INTERVAL;VALUE=DURATION:PT1H
X-Robots-Tag:noindex
X-PUBLISHED-TTL:PT1H
BEGIN:VTIMEZONE
TZID:Europe/Moscow
BEGIN:STANDARD
TZOFFSETFROM:+0300
TZOFFSETTO:+0300
TZNAME:MSK
DTSTART:20230101T000000
END:STANDARD
END:VTIMEZONE
BEGIN:VEVENT
DTSTART;TZID=Europe/Moscow:20250407T140000
DTEND;TZID=Europe/Moscow:20250407T143000
DTSTAMP:20260425T143135
CREATED:20241223T121610Z
LAST-MODIFIED:20241223T121610Z
UID:6370-1744034400-1744036200@vidvas.ru
SUMMARY:Директный (прямой) Меркурий
DESCRIPTION:14:01 по мск
URL:https://vidvas.ru/event/direktnyy-pryamoy-merkuriy/
CATEGORIES:Календарь
END:VEVENT
BEGIN:VEVENT
DTSTART;TZID=Europe/Moscow:20250402T213000
DTEND;TZID=Europe/Moscow:20250402T220000
DTSTAMP:20260425T143135
CREATED:20241223T111122Z
LAST-MODIFIED:20241223T111122Z
UID:6292-1743629400-1743631200@vidvas.ru
SUMMARY:Марс в Раке
DESCRIPTION:21:41 по мск
URL:https://vidvas.ru/event/mars-v-rake/
CATEGORIES:Календарь
END:VEVENT
BEGIN:VEVENT
DTSTART;TZID=Europe/Moscow:20250329T143000
DTEND;TZID=Europe/Moscow:20250329T150000
DTSTAMP:20260425T143135
CREATED:20241223T120720Z
LAST-MODIFIED:20241223T120720Z
UID:6362-1743258600-1743260400@vidvas.ru
SUMMARY:Сатурн в Рыбах
DESCRIPTION:14:35 по мск
URL:https://vidvas.ru/event/saturn-v-rybakh/
CATEGORIES:Календарь
END:VEVENT
BEGIN:VEVENT
DTSTART;TZID=Europe/Moscow:20250329T133000
DTEND;TZID=Europe/Moscow:20250329T140000
DTSTAMP:20260425T143135
CREATED:20241223T125714Z
LAST-MODIFIED:20241223T125714Z
UID:6413-1743255000-1743256800@vidvas.ru
SUMMARY:Лунный новый год
DESCRIPTION:13:58 по мск
URL:https://vidvas.ru/event/lunnyy-novyy-god/
CATEGORIES:Календарь
END:VEVENT
BEGIN:VEVENT
DTSTART;TZID=Europe/Moscow:20250329T113000
DTEND;TZID=Europe/Moscow:20250329T160000
DTSTAMP:20260425T143135
CREATED:20241223T124423Z
LAST-MODIFIED:20241223T124423Z
UID:6403-1743247800-1743264000@vidvas.ru
SUMMARY:Солнечное затмение
DESCRIPTION:Начало 11:50\nПик 13:47\nЗаканчивается 15:43\n*время московское
URL:https://vidvas.ru/event/solnechnoe-zatmenie-2/
CATEGORIES:Календарь
END:VEVENT
BEGIN:VEVENT
DTSTART;TZID=Europe/Moscow:20250315T093000
DTEND;TZID=Europe/Moscow:20250315T100000
DTSTAMP:20260425T143135
CREATED:20241223T121510Z
LAST-MODIFIED:20241223T121510Z
UID:6368-1742031000-1742032800@vidvas.ru
SUMMARY:Ретроградный Меркурий
DESCRIPTION:09:40 по мск
URL:https://vidvas.ru/event/retrogradnyy-merkuriy/
CATEGORIES:Календарь
END:VEVENT
BEGIN:VEVENT
DTSTART;TZID=Europe/Moscow:20250314T153000
DTEND;TZID=Europe/Moscow:20250314T160000
DTSTAMP:20260425T143135
CREATED:20241223T105806Z
LAST-MODIFIED:20241223T105806Z
UID:6270-1741966200-1741968000@vidvas.ru
SUMMARY:Солнце в Рыбах
DESCRIPTION:15:49 по мск
URL:https://vidvas.ru/event/solnce-v-rybakh/
CATEGORIES:Календарь
END:VEVENT
BEGIN:VEVENT
DTSTART;TZID=Europe/Moscow:20250314T070000
DTEND;TZID=Europe/Moscow:20250314T130000
DTSTAMP:20260425T143135
CREATED:20241223T125125Z
LAST-MODIFIED:20241223T125125Z
UID:6407-1741935600-1741957200@vidvas.ru
SUMMARY:Лунное затмение
DESCRIPTION:Начинается в 06:57\nПик в 09:58\nЗаканчивается в 13:00
URL:https://vidvas.ru/event/lunnoe-zatmenie/
CATEGORIES:Календарь
END:VEVENT
BEGIN:VEVENT
DTSTART;TZID=Europe/Moscow:20250302T033000
DTEND;TZID=Europe/Moscow:20250302T040000
DTSTAMP:20260425T143135
CREATED:20241223T122506Z
LAST-MODIFIED:20241223T122506Z
UID:6384-1740886200-1740888000@vidvas.ru
SUMMARY:Ретроградная Венера
DESCRIPTION:03:34 по мск
URL:https://vidvas.ru/event/retrogradnaya-venera/
CATEGORIES:Календарь
END:VEVENT
BEGIN:VEVENT
DTSTART;TZID=Europe/Moscow:20250227T203000
DTEND;TZID=Europe/Moscow:20250227T210000
DTSTAMP:20260425T143135
CREATED:20241223T113839Z
LAST-MODIFIED:20241223T113839Z
UID:6310-1740688200-1740690000@vidvas.ru
SUMMARY:Меркурий в Рыбах
DESCRIPTION:20:49 по мск
URL:https://vidvas.ru/event/merkuriy-v-rybakh/
CATEGORIES:Календарь
END:VEVENT
BEGIN:VEVENT
DTSTART;TZID=Europe/Moscow:20250224T043000
DTEND;TZID=Europe/Moscow:20250224T050000
DTSTAMP:20260425T143135
CREATED:20241223T121342Z
LAST-MODIFIED:20241223T121342Z
UID:6366-1740371400-1740373200@vidvas.ru
SUMMARY:Директный (прямой) Марс
DESCRIPTION:04:55 по мск
URL:https://vidvas.ru/event/direktnyy-pryamoy-mars/
CATEGORIES:Календарь
END:VEVENT
BEGIN:VEVENT
DTSTART;TZID=Europe/Moscow:20250212T183000
DTEND;TZID=Europe/Moscow:20250212T190000
DTSTAMP:20260425T143135
CREATED:20241223T105646Z
LAST-MODIFIED:20241223T105646Z
UID:6268-1739385000-1739386800@vidvas.ru
SUMMARY:Солнце в Водолее
DESCRIPTION:18:55 по мск
URL:https://vidvas.ru/event/solnce-v-vodolee/
CATEGORIES:Календарь
END:VEVENT
BEGIN:VEVENT
DTSTART;TZID=Europe/Moscow:20250211T103000
DTEND;TZID=Europe/Moscow:20250211T110000
DTSTAMP:20260425T143135
CREATED:20241223T113750Z
LAST-MODIFIED:20241223T113750Z
UID:6308-1739269800-1739271600@vidvas.ru
SUMMARY:Меркурий в Водолее
DESCRIPTION:10:00 по мск
URL:https://vidvas.ru/event/merkuriy-v-vodolee/
CATEGORIES:Календарь
END:VEVENT
BEGIN:VEVENT
DTSTART;TZID=Europe/Moscow:20250204T113000
DTEND;TZID=Europe/Moscow:20250204T120000
DTSTAMP:20260425T143135
CREATED:20241223T122246Z
LAST-MODIFIED:20241223T122246Z
UID:6380-1738668600-1738670400@vidvas.ru
SUMMARY:Директный (прямой) Юпитер
DESCRIPTION:11:59 по мск
URL:https://vidvas.ru/event/direktnyy-pryamoy-yupiter/
CATEGORIES:Календарь
END:VEVENT
BEGIN:VEVENT
DTSTART;TZID=Europe/Moscow:20250128T040000
DTEND;TZID=Europe/Moscow:20250128T043000
DTSTAMP:20260425T143135
CREATED:20231220T095503Z
LAST-MODIFIED:20231220T095503Z
UID:5505-1738036800-1738038600@vidvas.ru
SUMMARY:Венера в Рыбах
DESCRIPTION:
URL:https://vidvas.ru/event/venera-v-rybakh-2/
CATEGORIES:Календарь
END:VEVENT
BEGIN:VEVENT
DTSTART;TZID=Europe/Moscow:20250124T143000
DTEND;TZID=Europe/Moscow:20250124T150000
DTSTAMP:20260425T143135
CREATED:20241223T113641Z
LAST-MODIFIED:20241223T113641Z
UID:6306-1737729000-1737730800@vidvas.ru
SUMMARY:Меркурий в Козероге
DESCRIPTION:14:44 по мск
URL:https://vidvas.ru/event/merkuriy-v-kozeroge/
CATEGORIES:Календарь
END:VEVENT
BEGIN:VEVENT
DTSTART;TZID=Europe/Moscow:20250121T080000
DTEND;TZID=Europe/Moscow:20250121T083000
DTSTAMP:20260425T143135
CREATED:20231220T091206Z
LAST-MODIFIED:20231220T091206Z
UID:5439-1737446400-1737448200@vidvas.ru
SUMMARY:Марс в Близнецах
DESCRIPTION:
URL:https://vidvas.ru/event/mars-v-bliznecakh-2/
CATEGORIES:Календарь
END:VEVENT
BEGIN:VEVENT
DTSTART;VALUE=DATE:20250121
DTEND;VALUE=DATE:20250122
DTSTAMP:20260425T143135
CREATED:20240924T060806Z
LAST-MODIFIED:20240924T060806Z
UID:6125-1737417600-1737503999@vidvas.ru
SUMMARY:Марс в Близнецах
DESCRIPTION:до 2 апреля 2025
URL:https://vidvas.ru/event/mars-v-bliznecakh-3/
CATEGORIES:Календарь
END:VEVENT
BEGIN:VEVENT
DTSTART;TZID=Europe/Moscow:20250114T053000
DTEND;TZID=Europe/Moscow:20250114T060000
DTSTAMP:20260425T143135
CREATED:20231220T064937Z
LAST-MODIFIED:20231220T064937Z
UID:5421-1736832600-1736834400@vidvas.ru
SUMMARY:Солнце в Козероге
DESCRIPTION:
URL:https://vidvas.ru/event/solnce-v-kozeroge-2/
CATEGORIES:Календарь
END:VEVENT
BEGIN:VEVENT
DTSTART;TZID=Europe/Moscow:20250104T090000
DTEND;TZID=Europe/Moscow:20250104T093000
DTSTAMP:20260425T143135
CREATED:20231220T093858Z
LAST-MODIFIED:20231220T093858Z
UID:5471-1735981200-1735983000@vidvas.ru
SUMMARY:Меркурий в Стрельце
DESCRIPTION:
URL:https://vidvas.ru/event/merkuriy-v-strelce/
CATEGORIES:Календарь
END:VEVENT
BEGIN:VEVENT
DTSTART;TZID=Europe/Moscow:20241228T203000
DTEND;TZID=Europe/Moscow:20241228T210000
DTSTAMP:20260425T143135
CREATED:20231220T095407Z
LAST-MODIFIED:20231220T095407Z
UID:5503-1735417800-1735419600@vidvas.ru
SUMMARY:Венера в Водолее
DESCRIPTION:
URL:https://vidvas.ru/event/venera-v-vodolee-2/
CATEGORIES:Календарь
END:VEVENT
BEGIN:VEVENT
DTSTART;TZID=Europe/Moscow:20241215T190000
DTEND;TZID=Europe/Moscow:20241215T193000
DTSTAMP:20260425T143135
CREATED:20231220T064829Z
LAST-MODIFIED:20231220T064829Z
UID:5419-1734289200-1734291000@vidvas.ru
SUMMARY:Солнце в Стрельце
DESCRIPTION:
URL:https://vidvas.ru/event/solnce-v-strelce/
CATEGORIES:Календарь
END:VEVENT
BEGIN:VEVENT
DTSTART;TZID=Europe/Moscow:20241202T083000
DTEND;TZID=Europe/Moscow:20241202T090000
DTSTAMP:20260425T143135
CREATED:20231220T095304Z
LAST-MODIFIED:20231220T095304Z
UID:5501-1733128200-1733130000@vidvas.ru
SUMMARY:Венера в Козероге
DESCRIPTION:
URL:https://vidvas.ru/event/venera-v-kozeroge-2/
CATEGORIES:Календарь
END:VEVENT
BEGIN:VEVENT
DTSTART;TZID=Europe/Moscow:20241126T053000
DTEND;TZID=Europe/Moscow:20241215T233000
DTSTAMP:20260425T143135
CREATED:20231221T125238Z
LAST-MODIFIED:20231221T125238Z
UID:5513-1732599000-1734305400@vidvas.ru
SUMMARY:Ретроградный Меркурий
DESCRIPTION:
URL:https://vidvas.ru/event/retrogradnyy-merkuriy-3/
CATEGORIES:Календарь
END:VEVENT
BEGIN:VEVENT
DTSTART;TZID=Europe/Moscow:20241116T043000
DTEND;TZID=Europe/Moscow:20241116T050000
DTSTAMP:20260425T143135
CREATED:20231220T064724Z
LAST-MODIFIED:20231220T064724Z
UID:5417-1731731400-1731733200@vidvas.ru
SUMMARY:Солнце в Скорпионе
DESCRIPTION:
URL:https://vidvas.ru/event/solnce-v-skorpione/
CATEGORIES:Календарь
END:VEVENT
BEGIN:VEVENT
DTSTART;TZID=Europe/Moscow:20241107T003000
DTEND;TZID=Europe/Moscow:20241107T010000
DTSTAMP:20260425T143135
CREATED:20231220T095217Z
LAST-MODIFIED:20231220T095217Z
UID:5499-1730939400-1730941200@vidvas.ru
SUMMARY:Венера в Стрельце
DESCRIPTION:
URL:https://vidvas.ru/event/venera-v-strelce-2/
CATEGORIES:Календарь
END:VEVENT
BEGIN:VEVENT
DTSTART;TZID=Europe/Moscow:20241029T193000
DTEND;TZID=Europe/Moscow:20241029T200000
DTSTAMP:20260425T143135
CREATED:20231220T093809Z
LAST-MODIFIED:20231220T093809Z
UID:5469-1730230200-1730232000@vidvas.ru
SUMMARY:Меркурий в Скорпионе
DESCRIPTION:
URL:https://vidvas.ru/event/merkuriy-v-skorpione/
CATEGORIES:Календарь
END:VEVENT
BEGIN:VEVENT
DTSTART;TZID=Europe/Moscow:20241020T103000
DTEND;TZID=Europe/Moscow:20241020T110000
DTSTAMP:20260425T143135
CREATED:20231220T091047Z
LAST-MODIFIED:20240924T060633Z
UID:5437-1729420200-1729422000@vidvas.ru
SUMMARY:Марс в Раке
DESCRIPTION:До 25 января 2025
URL:https://vidvas.ru/event/mars-v-rybakh-2/
CATEGORIES:Календарь
END:VEVENT
BEGIN:VEVENT
DTSTART;TZID=Europe/Moscow:20241017T043000
DTEND;TZID=Europe/Moscow:20241017T050000
DTSTAMP:20260425T143135
CREATED:20231220T064624Z
LAST-MODIFIED:20231220T064624Z
UID:5415-1729139400-1729141200@vidvas.ru
SUMMARY:Солнце в Весах
DESCRIPTION:
URL:https://vidvas.ru/event/solnce-v-vesakh/
CATEGORIES:Календарь
END:VEVENT
BEGIN:VEVENT
DTSTART;TZID=Europe/Moscow:20241013T030000
DTEND;TZID=Europe/Moscow:20241013T033000
DTSTAMP:20260425T143135
CREATED:20231220T095131Z
LAST-MODIFIED:20231220T095131Z
UID:5497-1728788400-1728790200@vidvas.ru
SUMMARY:Венера в Скорпионе
DESCRIPTION:
URL:https://vidvas.ru/event/venera-v-skorpione/
CATEGORIES:Календарь
END:VEVENT
END:VCALENDAR