BEGIN:VCALENDAR
VERSION:2.0
PRODID:-//ПОЗНАЙ ИСТИННУЮ ПРИРОДУ СВОЕЙ ДУШИ - ECPv6.15.13//NONSGML v1.0//EN
CALSCALE:GREGORIAN
METHOD:PUBLISH
X-ORIGINAL-URL:https://vidvas.ru
X-WR-CALDESC:Мероприятия для ПОЗНАЙ ИСТИННУЮ ПРИРОДУ СВОЕЙ ДУШИ
REFRESH-INTERVAL;VALUE=DURATION:PT1H
X-Robots-Tag:noindex
X-PUBLISHED-TTL:PT1H
BEGIN:VTIMEZONE
TZID:Europe/Moscow
BEGIN:STANDARD
TZOFFSETFROM:+0300
TZOFFSETTO:+0300
TZNAME:MSK
DTSTART:20240101T000000
END:STANDARD
END:VTIMEZONE
BEGIN:VEVENT
DTSTART;TZID=Europe/Moscow:20250329T133000
DTEND;TZID=Europe/Moscow:20250329T140000
DTSTAMP:20260425T143038
CREATED:20241223T125714Z
LAST-MODIFIED:20241223T125714Z
UID:6413-1743255000-1743256800@vidvas.ru
SUMMARY:Лунный новый год
DESCRIPTION:13:58 по мск
URL:https://vidvas.ru/event/lunnyy-novyy-god/
CATEGORIES:Календарь
END:VEVENT
BEGIN:VEVENT
DTSTART;TZID=Europe/Moscow:20250329T143000
DTEND;TZID=Europe/Moscow:20250329T150000
DTSTAMP:20260425T143038
CREATED:20241223T120720Z
LAST-MODIFIED:20241223T120720Z
UID:6362-1743258600-1743260400@vidvas.ru
SUMMARY:Сатурн в Рыбах
DESCRIPTION:14:35 по мск
URL:https://vidvas.ru/event/saturn-v-rybakh/
CATEGORIES:Календарь
END:VEVENT
BEGIN:VEVENT
DTSTART;TZID=Europe/Moscow:20250402T213000
DTEND;TZID=Europe/Moscow:20250402T220000
DTSTAMP:20260425T143038
CREATED:20241223T111122Z
LAST-MODIFIED:20241223T111122Z
UID:6292-1743629400-1743631200@vidvas.ru
SUMMARY:Марс в Раке
DESCRIPTION:21:41 по мск
URL:https://vidvas.ru/event/mars-v-rake/
CATEGORIES:Календарь
END:VEVENT
BEGIN:VEVENT
DTSTART;TZID=Europe/Moscow:20250407T140000
DTEND;TZID=Europe/Moscow:20250407T143000
DTSTAMP:20260425T143038
CREATED:20241223T121610Z
LAST-MODIFIED:20241223T121610Z
UID:6370-1744034400-1744036200@vidvas.ru
SUMMARY:Директный (прямой) Меркурий
DESCRIPTION:14:01 по мск
URL:https://vidvas.ru/event/direktnyy-pryamoy-merkuriy/
CATEGORIES:Календарь
END:VEVENT
BEGIN:VEVENT
DTSTART;TZID=Europe/Moscow:20250413T033000
DTEND;TZID=Europe/Moscow:20250413T040000
DTSTAMP:20260425T143038
CREATED:20241223T122610Z
LAST-MODIFIED:20241223T122610Z
UID:6386-1744515000-1744516800@vidvas.ru
SUMMARY:Директная (прямая) Венера
DESCRIPTION:03:58 по мск
URL:https://vidvas.ru/event/direktnaya-pryamaya-venera/
CATEGORIES:Календарь
END:VEVENT
BEGIN:VEVENT
DTSTART;TZID=Europe/Moscow:20250414T000000
DTEND;TZID=Europe/Moscow:20250414T003000
DTSTAMP:20260425T143038
CREATED:20241223T105900Z
LAST-MODIFIED:20241223T105900Z
UID:6272-1744588800-1744590600@vidvas.ru
SUMMARY:Солнце в Овне
DESCRIPTION:00:19 по мск
URL:https://vidvas.ru/event/solnce-v-ovne/
CATEGORIES:Календарь
END:VEVENT
BEGIN:VEVENT
DTSTART;TZID=Europe/Moscow:20250414T000000
DTEND;TZID=Europe/Moscow:20250414T003000
DTSTAMP:20260425T143038
CREATED:20241223T125609Z
LAST-MODIFIED:20241223T125609Z
UID:6411-1744588800-1744590600@vidvas.ru
SUMMARY:Солнечный новый год
DESCRIPTION:в 0:19 по мск
URL:https://vidvas.ru/event/solnechnyy-novyy-god/
CATEGORIES:Календарь
END:VEVENT
BEGIN:VEVENT
DTSTART;TZID=Europe/Moscow:20250421T050000
DTEND;TZID=Europe/Moscow:20250425T053000
DTSTAMP:20260425T143038
CREATED:20241223T123349Z
LAST-MODIFIED:20241223T123538Z
UID:6396-1745211600-1745559000@vidvas.ru
SUMMARY:Директные (прямые) Раху-Кету
DESCRIPTION:
URL:https://vidvas.ru/event/retrogradnye-rakhu-ketu/
CATEGORIES:Календарь
END:VEVENT
BEGIN:VEVENT
DTSTART;TZID=Europe/Moscow:20250507T010000
DTEND;TZID=Europe/Moscow:20250507T013000
DTSTAMP:20260425T143038
CREATED:20241223T113932Z
LAST-MODIFIED:20241223T113932Z
UID:6312-1746579600-1746581400@vidvas.ru
SUMMARY:Меркурий в Овне
DESCRIPTION:01:14 по мск
URL:https://vidvas.ru/event/merkuriy-v-ovne/
CATEGORIES:Календарь
END:VEVENT
BEGIN:VEVENT
DTSTART;TZID=Europe/Moscow:20250514T170000
DTEND;TZID=Europe/Moscow:20250514T173000
DTSTAMP:20260425T143038
CREATED:20241223T115231Z
LAST-MODIFIED:20241223T115231Z
UID:6336-1747242000-1747243800@vidvas.ru
SUMMARY:Юпитер в Близнецах
DESCRIPTION:17:28 по мск
URL:https://vidvas.ru/event/yupiter-v-bliznecakh/
CATEGORIES:Календарь
END:VEVENT
BEGIN:VEVENT
DTSTART;TZID=Europe/Moscow:20250514T210000
DTEND;TZID=Europe/Moscow:20250514T213000
DTSTAMP:20260425T143038
CREATED:20241223T105950Z
LAST-MODIFIED:20241223T105950Z
UID:6274-1747256400-1747258200@vidvas.ru
SUMMARY:Солнце в Тельце
DESCRIPTION:21:09 по мск
URL:https://vidvas.ru/event/solnce-v-telce/
CATEGORIES:Календарь
END:VEVENT
BEGIN:VEVENT
DTSTART;TZID=Europe/Moscow:20250523T100000
DTEND;TZID=Europe/Moscow:20250523T103000
DTSTAMP:20260425T143038
CREATED:20241223T114020Z
LAST-MODIFIED:20241223T114020Z
UID:6314-1747994400-1747996200@vidvas.ru
SUMMARY:Меркурий в Тельце
DESCRIPTION:10:10 по мск
URL:https://vidvas.ru/event/merkuriy-v-telce/
CATEGORIES:Календарь
END:VEVENT
BEGIN:VEVENT
DTSTART;TZID=Europe/Moscow:20250530T003000
DTEND;TZID=Europe/Moscow:20250530T010000
DTSTAMP:20260425T143038
CREATED:20241223T120854Z
LAST-MODIFIED:20241223T120854Z
UID:6364-1748565000-1748566800@vidvas.ru
SUMMARY:Раху в Водолее\, Кету во Льве
DESCRIPTION:00:31 по мск
URL:https://vidvas.ru/event/rakhu-v-vodolee-ketu-vo-lve/
CATEGORIES:Календарь
END:VEVENT
BEGIN:VEVENT
DTSTART;TZID=Europe/Moscow:20250531T080000
DTEND;TZID=Europe/Moscow:20250531T083000
DTSTAMP:20260425T143038
CREATED:20241223T115726Z
LAST-MODIFIED:20241223T115726Z
UID:6342-1748678400-1748680200@vidvas.ru
SUMMARY:Венера в Овне
DESCRIPTION:08:34 по мск
URL:https://vidvas.ru/event/venera-v-ovne/
CATEGORIES:Календарь
END:VEVENT
BEGIN:VEVENT
DTSTART;TZID=Europe/Moscow:20250606T063000
DTEND;TZID=Europe/Moscow:20250606T070000
DTSTAMP:20260425T143038
CREATED:20241223T114111Z
LAST-MODIFIED:20241223T114111Z
UID:6316-1749191400-1749193200@vidvas.ru
SUMMARY:Меркурий в Близнецах
DESCRIPTION:06:34 по мск
URL:https://vidvas.ru/event/merkuriy-v-bliznecakh/
CATEGORIES:Календарь
END:VEVENT
BEGIN:VEVENT
DTSTART;TZID=Europe/Moscow:20250606T223000
DTEND;TZID=Europe/Moscow:20250606T230000
DTSTAMP:20260425T143038
CREATED:20241223T111227Z
LAST-MODIFIED:20241223T111227Z
UID:6294-1749249000-1749250800@vidvas.ru
SUMMARY:Марс во Льве
DESCRIPTION:22:45 по мск
URL:https://vidvas.ru/event/mars-vo-lve/
CATEGORIES:Календарь
END:VEVENT
BEGIN:VEVENT
DTSTART;TZID=Europe/Moscow:20250615T033000
DTEND;TZID=Europe/Moscow:20250615T040000
DTSTAMP:20260425T143038
CREATED:20241223T110051Z
LAST-MODIFIED:20241223T110051Z
UID:6276-1749958200-1749960000@vidvas.ru
SUMMARY:Солнце в Близнецах
DESCRIPTION:03:41 по мск
URL:https://vidvas.ru/event/solnce-v-bliznecakh/
CATEGORIES:Календарь
END:VEVENT
BEGIN:VEVENT
DTSTART;TZID=Europe/Moscow:20250622T183000
DTEND;TZID=Europe/Moscow:20250622T190000
DTSTAMP:20260425T143038
CREATED:20241223T114223Z
LAST-MODIFIED:20241223T114223Z
UID:6318-1750617000-1750618800@vidvas.ru
SUMMARY:Меркурий в Раке
DESCRIPTION:18:34 по мск
URL:https://vidvas.ru/event/merkuriy-v-rake/
CATEGORIES:Календарь
END:VEVENT
BEGIN:VEVENT
DTSTART;TZID=Europe/Moscow:20250629T110000
DTEND;TZID=Europe/Moscow:20250629T113000
DTSTAMP:20260425T143038
CREATED:20241223T115827Z
LAST-MODIFIED:20241223T115827Z
UID:6344-1751194800-1751196600@vidvas.ru
SUMMARY:Венера в Тельце
DESCRIPTION:11:11 по мск
URL:https://vidvas.ru/event/venera-v-telce/
CATEGORIES:Календарь
END:VEVENT
BEGIN:VEVENT
DTSTART;TZID=Europe/Moscow:20250713T053000
DTEND;TZID=Europe/Moscow:20250713T060000
DTSTAMP:20260425T143038
CREATED:20241223T122941Z
LAST-MODIFIED:20241223T122941Z
UID:6392-1752384600-1752386400@vidvas.ru
SUMMARY:Ретроградный Сатурн
DESCRIPTION:05:43 по мск
URL:https://vidvas.ru/event/retrogradnyy-saturn/
CATEGORIES:Календарь
END:VEVENT
BEGIN:VEVENT
DTSTART;TZID=Europe/Moscow:20250716T140000
DTEND;TZID=Europe/Moscow:20250716T143000
DTSTAMP:20260425T143038
CREATED:20241223T110154Z
LAST-MODIFIED:20241223T110154Z
UID:6278-1752674400-1752676200@vidvas.ru
SUMMARY:Солнце в Раке
DESCRIPTION:14:29 по мск
URL:https://vidvas.ru/event/solnce-v-rake/
CATEGORIES:Календарь
END:VEVENT
BEGIN:VEVENT
DTSTART;TZID=Europe/Moscow:20250718T073000
DTEND;TZID=Europe/Moscow:20250718T080000
DTSTAMP:20260425T143038
CREATED:20241223T121702Z
LAST-MODIFIED:20241223T121702Z
UID:6372-1752823800-1752825600@vidvas.ru
SUMMARY:Ретроградный Меркурий
DESCRIPTION:07:39 по мск
URL:https://vidvas.ru/event/retrogradnyy-merkuriy-4/
CATEGORIES:Календарь
END:VEVENT
BEGIN:VEVENT
DTSTART;TZID=Europe/Moscow:20250726T053000
DTEND;TZID=Europe/Moscow:20250726T060000
DTSTAMP:20260425T143038
CREATED:20241223T115919Z
LAST-MODIFIED:20241223T115919Z
UID:6346-1753507800-1753509600@vidvas.ru
SUMMARY:Венера в Близнецах
DESCRIPTION:05:57 по мск
URL:https://vidvas.ru/event/venera-v-bliznecakh/
CATEGORIES:Календарь
END:VEVENT
BEGIN:VEVENT
DTSTART;TZID=Europe/Moscow:20250728T163000
DTEND;TZID=Europe/Moscow:20250728T170000
DTSTAMP:20260425T143038
CREATED:20241223T111344Z
LAST-MODIFIED:20241223T111344Z
UID:6296-1753720200-1753722000@vidvas.ru
SUMMARY:Марс в Деве
DESCRIPTION:16:34 по мск
URL:https://vidvas.ru/event/mars-v-deve/
CATEGORIES:Календарь
END:VEVENT
BEGIN:VEVENT
DTSTART;TZID=Europe/Moscow:20250811T100000
DTEND;TZID=Europe/Moscow:20250811T103000
DTSTAMP:20260425T143038
CREATED:20241223T121803Z
LAST-MODIFIED:20241223T121803Z
UID:6374-1754906400-1754908200@vidvas.ru
SUMMARY:Директный (прямой) Меркурий
DESCRIPTION:10:23 по мск
URL:https://vidvas.ru/event/direktnyy-pryamoy-merkuriy-2/
CATEGORIES:Календарь
END:VEVENT
BEGIN:VEVENT
DTSTART;TZID=Europe/Moscow:20250816T223000
DTEND;TZID=Europe/Moscow:20250816T230000
DTSTAMP:20260425T143038
CREATED:20241223T110253Z
LAST-MODIFIED:20241223T110253Z
UID:6280-1755383400-1755385200@vidvas.ru
SUMMARY:Солнце во Льве
DESCRIPTION:22:50 по мск
URL:https://vidvas.ru/event/solnce-vo-lve-2/
CATEGORIES:Календарь
END:VEVENT
BEGIN:VEVENT
DTSTART;TZID=Europe/Moscow:20250820T220000
DTEND;TZID=Europe/Moscow:20250820T223000
DTSTAMP:20260425T143038
CREATED:20241223T120029Z
LAST-MODIFIED:20241223T120029Z
UID:6348-1755727200-1755729000@vidvas.ru
SUMMARY:Венера в Раке
DESCRIPTION:22:19 по мск
URL:https://vidvas.ru/event/venera-v-rake/
CATEGORIES:Календарь
END:VEVENT
BEGIN:VEVENT
DTSTART;TZID=Europe/Moscow:20250830T133000
DTEND;TZID=Europe/Moscow:20250830T140000
DTSTAMP:20260425T143038
CREATED:20241223T114331Z
LAST-MODIFIED:20241223T114331Z
UID:6320-1756560600-1756562400@vidvas.ru
SUMMARY:Меркурий во Льве
DESCRIPTION:13:52 по мск
URL:https://vidvas.ru/event/merkuriy-vo-lve/
CATEGORIES:Календарь
END:VEVENT
BEGIN:VEVENT
DTSTART;TZID=Europe/Moscow:20250907T183000
DTEND;TZID=Europe/Moscow:20250907T183000
DTSTAMP:20260425T143038
CREATED:20241223T125329Z
LAST-MODIFIED:20241223T125329Z
UID:6409-1757269800-1757269800@vidvas.ru
SUMMARY:Лунное затмение
DESCRIPTION:Начинается в 18:26\nПик в 21:11\nЗаканчивается в 23:54
URL:https://vidvas.ru/event/lunnoe-zatmenie-2/
CATEGORIES:Календарь
END:VEVENT
BEGIN:VEVENT
DTSTART;TZID=Europe/Moscow:20250913T173000
DTEND;TZID=Europe/Moscow:20250913T180000
DTSTAMP:20260425T143038
CREATED:20241223T111514Z
LAST-MODIFIED:20241223T111514Z
UID:6298-1757784600-1757786400@vidvas.ru
SUMMARY:Марс в Весах
DESCRIPTION:17:58 по мск
URL:https://vidvas.ru/event/mars-v-vesakh/
CATEGORIES:Календарь
END:VEVENT
END:VCALENDAR