BEGIN:VCALENDAR
VERSION:2.0
PRODID:-//ПОЗНАЙ ИСТИННУЮ ПРИРОДУ СВОЕЙ ДУШИ - ECPv6.15.13//NONSGML v1.0//EN
CALSCALE:GREGORIAN
METHOD:PUBLISH
X-WR-CALNAME:ПОЗНАЙ ИСТИННУЮ ПРИРОДУ СВОЕЙ ДУШИ
X-ORIGINAL-URL:https://vidvas.ru
X-WR-CALDESC:Мероприятия для ПОЗНАЙ ИСТИННУЮ ПРИРОДУ СВОЕЙ ДУШИ
REFRESH-INTERVAL;VALUE=DURATION:PT1H
X-Robots-Tag:noindex
X-PUBLISHED-TTL:PT1H
BEGIN:VTIMEZONE
TZID:Europe/Moscow
BEGIN:STANDARD
TZOFFSETFROM:+0300
TZOFFSETTO:+0300
TZNAME:MSK
DTSTART:20240101T000000
END:STANDARD
END:VTIMEZONE
BEGIN:VEVENT
DTSTART;TZID=Europe/Moscow:20251205T190000
DTEND;TZID=Europe/Moscow:20251205T193000
DTSTAMP:20260424T181334
CREATED:20241223T115430Z
LAST-MODIFIED:20241223T115430Z
UID:6340-1764961200-1764963000@vidvas.ru
SUMMARY:Юпитер в Близнецах
DESCRIPTION:19:18 по мск
URL:https://vidvas.ru/event/yupiter-v-bliznecakh-2/
CATEGORIES:Календарь
END:VEVENT
BEGIN:VEVENT
DTSTART;TZID=Europe/Moscow:20251206T173000
DTEND;TZID=Europe/Moscow:20251206T180000
DTSTAMP:20260424T181334
CREATED:20241223T114847Z
LAST-MODIFIED:20241223T114847Z
UID:6330-1765042200-1765044000@vidvas.ru
SUMMARY:Меркурий в Скорпионе
DESCRIPTION:17:41 по мск
URL:https://vidvas.ru/event/merkuriy-v-skorpione-3/
CATEGORIES:Календарь
END:VEVENT
BEGIN:VEVENT
DTSTART;TZID=Europe/Moscow:20251207T163000
DTEND;TZID=Europe/Moscow:20251207T170000
DTSTAMP:20260424T181334
CREATED:20241223T113408Z
LAST-MODIFIED:20241223T113408Z
UID:6302-1765125000-1765126800@vidvas.ru
SUMMARY:Марс в Стрельце
DESCRIPTION:16:56 по мск
URL:https://vidvas.ru/event/mars-v-strelce/
CATEGORIES:Календарь
END:VEVENT
BEGIN:VEVENT
DTSTART;TZID=Europe/Moscow:20251216T010000
DTEND;TZID=Europe/Moscow:20251216T013000
DTSTAMP:20260424T181334
CREATED:20241223T110727Z
LAST-MODIFIED:20241223T110727Z
UID:6288-1765846800-1765848600@vidvas.ru
SUMMARY:Солнце в Стрельце
DESCRIPTION:01:19 по мск
URL:https://vidvas.ru/event/solnce-v-strelce-2/
CATEGORIES:Календарь
END:VEVENT
BEGIN:VEVENT
DTSTART;TZID=Europe/Moscow:20251220T043000
DTEND;TZID=Europe/Moscow:20251220T050000
DTSTAMP:20260424T181334
CREATED:20241223T120502Z
LAST-MODIFIED:20241223T120502Z
UID:6358-1766205000-1766206800@vidvas.ru
SUMMARY:Венера в Стрельце
DESCRIPTION:04:42 по мск
URL:https://vidvas.ru/event/venera-v-strelce/
CATEGORIES:Календарь
END:VEVENT
BEGIN:VEVENT
DTSTART;TZID=Europe/Moscow:20251229T040000
DTEND;TZID=Europe/Moscow:20251229T043000
DTSTAMP:20260424T181334
CREATED:20241223T114952Z
LAST-MODIFIED:20241223T114952Z
UID:6332-1766980800-1766982600@vidvas.ru
SUMMARY:Меркурий в Стрельце
DESCRIPTION:04:27 по мск
URL:https://vidvas.ru/event/merkuriy-v-strelce-2/
CATEGORIES:Календарь
END:VEVENT
END:VCALENDAR