BEGIN:VCALENDAR
VERSION:2.0
PRODID:-//ПОЗНАЙ ИСТИННУЮ ПРИРОДУ СВОЕЙ ДУШИ - ECPv6.15.13//NONSGML v1.0//EN
CALSCALE:GREGORIAN
METHOD:PUBLISH
X-WR-CALNAME:ПОЗНАЙ ИСТИННУЮ ПРИРОДУ СВОЕЙ ДУШИ
X-ORIGINAL-URL:https://vidvas.ru
X-WR-CALDESC:Мероприятия для ПОЗНАЙ ИСТИННУЮ ПРИРОДУ СВОЕЙ ДУШИ
REFRESH-INTERVAL;VALUE=DURATION:PT1H
X-Robots-Tag:noindex
X-PUBLISHED-TTL:PT1H
BEGIN:VTIMEZONE
TZID:Europe/Moscow
BEGIN:STANDARD
TZOFFSETFROM:+0300
TZOFFSETTO:+0300
TZNAME:MSK
DTSTART:20240101T000000
END:STANDARD
END:VTIMEZONE
BEGIN:VEVENT
DTSTART;TZID=Europe/Moscow:20250329T113000
DTEND;TZID=Europe/Moscow:20250329T160000
DTSTAMP:20260425T160959
CREATED:20241223T124423Z
LAST-MODIFIED:20241223T124423Z
UID:6403-1743247800-1743264000@vidvas.ru
SUMMARY:Солнечное затмение
DESCRIPTION:Начало 11:50\nПик 13:47\nЗаканчивается 15:43\n*время московское
URL:https://vidvas.ru/event/solnechnoe-zatmenie-2/
CATEGORIES:Календарь
END:VEVENT
BEGIN:VEVENT
DTSTART;TZID=Europe/Moscow:20250329T133000
DTEND;TZID=Europe/Moscow:20250329T140000
DTSTAMP:20260425T160959
CREATED:20241223T125714Z
LAST-MODIFIED:20241223T125714Z
UID:6413-1743255000-1743256800@vidvas.ru
SUMMARY:Лунный новый год
DESCRIPTION:13:58 по мск
URL:https://vidvas.ru/event/lunnyy-novyy-god/
CATEGORIES:Календарь
END:VEVENT
BEGIN:VEVENT
DTSTART;TZID=Europe/Moscow:20250329T143000
DTEND;TZID=Europe/Moscow:20250329T150000
DTSTAMP:20260425T160959
CREATED:20241223T120720Z
LAST-MODIFIED:20241223T120720Z
UID:6362-1743258600-1743260400@vidvas.ru
SUMMARY:Сатурн в Рыбах
DESCRIPTION:14:35 по мск
URL:https://vidvas.ru/event/saturn-v-rybakh/
CATEGORIES:Календарь
END:VEVENT
END:VCALENDAR