BEGIN:VCALENDAR
VERSION:2.0
PRODID:-//ПОЗНАЙ ИСТИННУЮ ПРИРОДУ СВОЕЙ ДУШИ - ECPv6.15.13//NONSGML v1.0//EN
CALSCALE:GREGORIAN
METHOD:PUBLISH
X-ORIGINAL-URL:https://vidvas.ru
X-WR-CALDESC:Мероприятия для ПОЗНАЙ ИСТИННУЮ ПРИРОДУ СВОЕЙ ДУШИ
REFRESH-INTERVAL;VALUE=DURATION:PT1H
X-Robots-Tag:noindex
X-PUBLISHED-TTL:PT1H
BEGIN:VTIMEZONE
TZID:Europe/Moscow
BEGIN:STANDARD
TZOFFSETFROM:+0300
TZOFFSETTO:+0300
TZNAME:MSK
DTSTART:20240101T000000
END:STANDARD
END:VTIMEZONE
BEGIN:VEVENT
DTSTART;TZID=Europe/Moscow:20250514T170000
DTEND;TZID=Europe/Moscow:20250514T173000
DTSTAMP:20260425T060601
CREATED:20241223T115231Z
LAST-MODIFIED:20241223T115231Z
UID:6336-1747242000-1747243800@vidvas.ru
SUMMARY:Юпитер в Близнецах
DESCRIPTION:17:28 по мск
URL:https://vidvas.ru/event/yupiter-v-bliznecakh/
CATEGORIES:Календарь
END:VEVENT
BEGIN:VEVENT
DTSTART;TZID=Europe/Moscow:20250514T210000
DTEND;TZID=Europe/Moscow:20250514T213000
DTSTAMP:20260425T060601
CREATED:20241223T105950Z
LAST-MODIFIED:20241223T105950Z
UID:6274-1747256400-1747258200@vidvas.ru
SUMMARY:Солнце в Тельце
DESCRIPTION:21:09 по мск
URL:https://vidvas.ru/event/solnce-v-telce/
CATEGORIES:Календарь
END:VEVENT
END:VCALENDAR