BEGIN:VCALENDAR
VERSION:2.0
PRODID:-//ПОЗНАЙ ИСТИННУЮ ПРИРОДУ СВОЕЙ ДУШИ - ECPv6.15.13//NONSGML v1.0//EN
CALSCALE:GREGORIAN
METHOD:PUBLISH
X-ORIGINAL-URL:https://vidvas.ru
X-WR-CALDESC:Мероприятия для ПОЗНАЙ ИСТИННУЮ ПРИРОДУ СВОЕЙ ДУШИ
REFRESH-INTERVAL;VALUE=DURATION:PT1H
X-Robots-Tag:noindex
X-PUBLISHED-TTL:PT1H
BEGIN:VTIMEZONE
TZID:Europe/Moscow
BEGIN:STANDARD
TZOFFSETFROM:+0300
TZOFFSETTO:+0300
TZNAME:MSK
DTSTART:20240101T000000
END:STANDARD
END:VTIMEZONE
BEGIN:VEVENT
DTSTART;TZID=Europe/Moscow:20250124T143000
DTEND;TZID=Europe/Moscow:20250124T150000
DTSTAMP:20260425T174852
CREATED:20241223T113641Z
LAST-MODIFIED:20241223T113641Z
UID:6306-1737729000-1737730800@vidvas.ru
SUMMARY:Меркурий в Козероге
DESCRIPTION:14:44 по мск
URL:https://vidvas.ru/event/merkuriy-v-kozeroge/
CATEGORIES:Календарь
END:VEVENT
END:VCALENDAR