BEGIN:VCALENDAR
VERSION:2.0
PRODID:-//ПОЗНАЙ ИСТИННУЮ ПРИРОДУ СВОЕЙ ДУШИ - ECPv6.15.13//NONSGML v1.0//EN
CALSCALE:GREGORIAN
METHOD:PUBLISH
X-WR-CALNAME:ПОЗНАЙ ИСТИННУЮ ПРИРОДУ СВОЕЙ ДУШИ
X-ORIGINAL-URL:https://vidvas.ru
X-WR-CALDESC:Мероприятия для ПОЗНАЙ ИСТИННУЮ ПРИРОДУ СВОЕЙ ДУШИ
REFRESH-INTERVAL;VALUE=DURATION:PT1H
X-Robots-Tag:noindex
X-PUBLISHED-TTL:PT1H
BEGIN:VTIMEZONE
TZID:Europe/Moscow
BEGIN:STANDARD
TZOFFSETFROM:+0300
TZOFFSETTO:+0300
TZNAME:MSK
DTSTART:20240101T000000
END:STANDARD
END:VTIMEZONE
BEGIN:VEVENT
DTSTART;VALUE=DATE:20250121
DTEND;VALUE=DATE:20250122
DTSTAMP:20260425T221046
CREATED:20240924T060806Z
LAST-MODIFIED:20240924T060806Z
UID:6125-1737417600-1737503999@vidvas.ru
SUMMARY:Марс в Близнецах
DESCRIPTION:до 2 апреля 2025
URL:https://vidvas.ru/event/mars-v-bliznecakh-3/
CATEGORIES:Календарь
END:VEVENT
BEGIN:VEVENT
DTSTART;TZID=Europe/Moscow:20250121T080000
DTEND;TZID=Europe/Moscow:20250121T083000
DTSTAMP:20260425T221046
CREATED:20231220T091206Z
LAST-MODIFIED:20231220T091206Z
UID:5439-1737446400-1737448200@vidvas.ru
SUMMARY:Марс в Близнецах
DESCRIPTION:
URL:https://vidvas.ru/event/mars-v-bliznecakh-2/
CATEGORIES:Календарь
END:VEVENT
END:VCALENDAR